


BEGIN:VCALENDAR
VERSION:2.0
PRODID:-//Emmanuel Faith Community Church - ECPv6.15.20//NONSGML v1.0//EN
CALSCALE:GREGORIAN
METHOD:PUBLISH
X-ORIGINAL-URL:https://www.efcc.org
X-WR-CALDESC:Events for Emmanuel Faith Community Church
REFRESH-INTERVAL;VALUE=DURATION:PT1H
X-Robots-Tag:noindex
X-PUBLISHED-TTL:PT1H
BEGIN:VTIMEZONE
TZID:America/Los_Angeles
BEGIN:DAYLIGHT
TZOFFSETFROM:-0800
TZOFFSETTO:-0700
TZNAME:PDT
DTSTART:20250309T100000
END:DAYLIGHT
BEGIN:STANDARD
TZOFFSETFROM:-0700
TZOFFSETTO:-0800
TZNAME:PST
DTSTART:20251102T090000
END:STANDARD
BEGIN:DAYLIGHT
TZOFFSETFROM:-0800
TZOFFSETTO:-0700
TZNAME:PDT
DTSTART:20260308T100000
END:DAYLIGHT
BEGIN:STANDARD
TZOFFSETFROM:-0700
TZOFFSETTO:-0800
TZNAME:PST
DTSTART:20261101T090000
END:STANDARD
BEGIN:DAYLIGHT
TZOFFSETFROM:-0800
TZOFFSETTO:-0700
TZNAME:PDT
DTSTART:20270314T100000
END:DAYLIGHT
BEGIN:STANDARD
TZOFFSETFROM:-0700
TZOFFSETTO:-0800
TZNAME:PST
DTSTART:20271107T090000
END:STANDARD
END:VTIMEZONE
BEGIN:VEVENT
DTSTART;TZID=America/Los_Angeles:20260419T090000
DTEND;TZID=America/Los_Angeles:20260419T130000
DTSTAMP:20260421T030755
CREATED:20260413T155115Z
LAST-MODIFIED:20260416T232839Z
UID:10003879-1776589200-1776603600@www.efcc.org
SUMMARY:Outreach Community Sunday
DESCRIPTION:[vc_row][vc_column][vc_column_text uncode_shortcode_id=”129862″]Sunday morning\, April 19\, in the Courtyard\nOur incredible outreach partners and unbelievable ministry volunteers will be in the Courtyard all morning\, ready to share the exciting ways YOU can make a difference right here in our community. There’s a place for you to plug in — come find it. Bring your whole family. While there\, grab a gourmet hot dog (lunch will be served starting at 11:30am). Your kids can enjoy fun activities and treats\, including a bounce house\, balloon animals and popcorn\, while you explore all the ways Emmanuel Faith is serving our community. We hope to see you there. Come hungry and leave inspired! \nOur visiting Outreach partners will include Alabaster Jar\, Alternatives Medical Center\, The Anchor\, Bridge Builders\, Child Evangelism Fellowship\, Love Esco\, Olive Crest\, and We See You. The ministry teams on hand will include Education Teams\, Family Strong\, Journey of Hope\, and Teacher Support. Click a link below to learn more.[/vc_column_text][vc_row_inner][vc_column_inner width=”1/3″][vc_button border_width=”0″ link=”url:https%3A%2F%2Fwww.efcc.org%2Fwp-content%2Fuploads%2F2026%2F04%2FOutrch-cmnty-sunday-apr-2026.pdf|title:More%20Info|target:_blank” uncode_shortcode_id=”214100″]Learn More[/vc_button][/vc_column_inner][vc_column_inner width=”1/3″][vc_button border_width=”0″ link=”url:%2Fcommunityoutreach%2F|title:Visit%20Our%20Page” uncode_shortcode_id=”199907″]Community Outreach Page[/vc_button][/vc_column_inner][vc_column_inner width=”1/3″][/vc_column_inner][/vc_row_inner][/vc_column][/vc_row]
URL:https://www.efcc.org/event/outreach-community-sunday/
LOCATION:Main Campus\, 639 E 17th Ave\, ESCONDIDO\, CA\, 92025\, United States
CATEGORIES:Men,All Church,Kids and Families,Women,Young Adults,Senior Adults
ATTACH;FMTTYPE=image/jpeg:https://www.efcc.org/wp-content/uploads/2025/12/EM_PE_11012025_006-scaled.jpg
END:VEVENT
BEGIN:VEVENT
DTSTART;TZID=America/Los_Angeles:20260418T180000
DTEND;TZID=America/Los_Angeles:20260418T203000
DTSTAMP:20260421T030755
CREATED:20260327T201740Z
LAST-MODIFIED:20260409T201947Z
UID:10003863-1776535200-1776544200@www.efcc.org
SUMMARY:Hockey Night (at San Diego Gulls)
DESCRIPTION:[vc_row][vc_column][vc_column_text uncode_shortcode_id=”162677″]Come and join us for Hockey Night with the San Diego Gulls\, sponsored by Men’s Ministry\, on Saturday\, April 18. We’re looking forward to a fun evening of fellowship and hockey. We’ll gather at Pechanga Arena to watch the game. The puck drops at 6pm\, but you’re invited to join us earlier. \nOur group seating will be located in the upper section\, 6C. Tickets are $21 per person\, and you’re welcome to purchase additional tickets for friends or family members via the registration form link below. The deadline to purchase tickets has been extended! Tickets must now be purchased by Monday\, April 13.[/vc_column_text][vc_button border_width=”0″ link=”url:https%3A%2F%2Fefcc.ccbchurch.com%2Fgoto%2Fforms%2F1480%2Fresponses%2Fnew|title:Register%20Online|target:_blank” uncode_shortcode_id=”138527″]Register[/vc_button][/vc_column][/vc_row]
URL:https://www.efcc.org/event/hockey-night/
LOCATION:CA
CATEGORIES:Men,Kids and Families,Women,Senior Adults
ATTACH;FMTTYPE=image/jpeg:https://www.efcc.org/wp-content/uploads/2026/03/mens-hockey-night-april-2026.jpg
END:VEVENT
BEGIN:VEVENT
DTSTART;TZID=America/Los_Angeles:20260411T160000
DTEND;TZID=America/Los_Angeles:20260411T190000
DTSTAMP:20260421T030755
CREATED:20260406T193130Z
LAST-MODIFIED:20260407T224634Z
UID:10003876-1775923200-1775934000@www.efcc.org
SUMMARY:Respite Night
DESCRIPTION:[vc_row][vc_column][vc_column_text]Previously known as Buddy Break\, we’re excited to offer behavioral support at our next Respite Night\, in partnership with Family Strong and Emmanuel Faith’s Behavior Support Ministry. Your kids will enjoy a few hours of fun while you get a little break\, too! If your child requires 1-1 support or special needs assistance\, please make sure to check the box on the registration form. \nFollow the link below to sign up. Volunteers are also needed; you can sign up via the volunteer link below.[/vc_column_text][vc_row_inner][vc_column_inner width=”1/3″][vc_button button_color=”color-vyce” border_width=”0″ link=”url:https%3A%2F%2Fefcc.ccbchurch.com%2Fgoto%2Fforms%2F1482%2Fresponses%2Fnew|title:Register%20Online|target:_blank” button_color_type=”uncode-palette” uncode_shortcode_id=”230736″]Register[/vc_button][/vc_column_inner][vc_column_inner width=”1/3″][vc_button button_color=”color-vyce” border_width=”0″ link=”url:https%3A%2F%2Fefcc.ccbchurch.com%2Fgoto%2Fforms%2F1483%2Fresponses%2Fnew|title:Volunteer%20With%20Us|target:_blank” button_color_type=”uncode-palette” uncode_shortcode_id=”162885″]Volunteer[/vc_button][/vc_column_inner][vc_column_inner width=”1/3″][vc_button button_color=”color-vyce” border_width=”0″ link=”url:%2Fbehavior-support%2F|title:Behavior%20Support%20Ministry%20Page” button_color_type=”uncode-palette” uncode_shortcode_id=”924313″]Visit Our Page[/vc_button][/vc_column_inner][/vc_row_inner][/vc_column][/vc_row]
URL:https://www.efcc.org/event/respite-night/
LOCATION:Children’s Center\, 639 E. 17th Ave.\, Escondido\, CA\, 92025\, United States
CATEGORIES:Kids and Families
ATTACH;FMTTYPE=image/jpeg:https://www.efcc.org/wp-content/uploads/2026/04/respite-night-april-2026.jpg
END:VEVENT
BEGIN:VEVENT
DTSTART;VALUE=DATE:20260404
DTEND;VALUE=DATE:20260406
DTSTAMP:20260421T030755
CREATED:20260309T194345Z
LAST-MODIFIED:20260309T194345Z
UID:10003822-1775260800-1775433599@www.efcc.org
SUMMARY:Easter Weekend 2026
DESCRIPTION:[vc_row][vc_column][vc_column_text]Saturday\, April 4\, & Sunday\, April 5\nExperience Easter at Emmanuel Faith! Come and join us to celebrate the risen Christ. Several service times will be available\, including Saturday night\, April 4\, at 5pm\, or on Sunday morning\, April 5\, at either 7:30\, 9\, or 10:45am. Several of our services will be streamed as well\, if you are unable to attend in person. Click the link below to learn more on our Easter page.[/vc_column_text][vc_button border_width=”0″ link=”url:%2Feaster%2F|title:More%20Info” uncode_shortcode_id=”557276″]More Info[/vc_button][/vc_column][/vc_row]
URL:https://www.efcc.org/event/easter-weekend-2026/
LOCATION:Main Campus\, 639 E 17th Ave\, ESCONDIDO\, CA\, 92025\, United States
CATEGORIES:Men,All Church,Kids and Families,Women,Young Adults,Senior Adults
ATTACH;FMTTYPE=image/jpeg:https://www.efcc.org/wp-content/uploads/2026/03/Easter-2026-main.jpg
END:VEVENT
BEGIN:VEVENT
DTSTART;TZID=America/Los_Angeles:20260328T080000
DTEND;TZID=America/Los_Angeles:20260328T120000
DTSTAMP:20260421T030755
CREATED:20260304T202724Z
LAST-MODIFIED:20260327T162218Z
UID:10003818-1774684800-1774699200@www.efcc.org
SUMMARY:All-Church Work Day
DESCRIPTION:[vc_row][vc_column][vc_column_text uncode_shortcode_id=”123185″]Don’t miss our annual all-church work day to help prepare our 27-acre campus for Easter! We’ll have projects for every age and skill level. Bring along your favorite shovels\, pruners\, hoes\, rakes\, and gloves and we’ll spend a few fun hours together preparing our campus to look more welcoming for our guests. If you don’t have the tools\, we’ll have a bunch of options available and ready to go. We’ll gather in Parking Lot A on the north side of the Worship Center near the Welcome kiosk (please note the updated meeting location). \nSign up to help via the link below\, or just come on Saturday morning.[/vc_column_text][vc_button border_width=”0″ link=”url:https%3A%2F%2Fefcc.ccbchurch.com%2Fgoto%2Fforms%2F1220%2Fresponses%2Fnew|title:Sign%20Up%20Online|target:_blank” uncode_shortcode_id=”389863″]Sign Up[/vc_button][/vc_column][/vc_row]
URL:https://www.efcc.org/event/all-church-work-day/
LOCATION:Main Campus\, 639 E 17th Ave\, ESCONDIDO\, CA\, 92025\, United States
CATEGORIES:Men,All Church,Kids and Families,High School,Women,Young Adults,Junior High,Senior Adults
ATTACH;FMTTYPE=image/jpeg:https://www.efcc.org/wp-content/uploads/2026/03/all-church-work-day-sprng-2026.jpg
END:VEVENT
END:VCALENDAR